BEGIN:VCALENDAR
VERSION:2.0
PRODID:-//phil.firespring.org//NONSGML kigkonsult.se iCalcreator 2.30.10//
CALSCALE:GREGORIAN
METHOD:PUBLISH
UID:380e0adc-dc2f-40a4-9bb4-5d6de0e6b687
X-WR-CALDESC:Please bring drinking water
X-WR-RELCALID:506443677152346aa60bbed1dea59a2e
X-WR-TIMEZONE:America/Chicago
BEGIN:VTIMEZONE
TZID:America/Chicago
BEGIN:STANDARD
TZNAME:CST
DTSTART:20191103T020000
TZOFFSETFROM:-0500
TZOFFSETTO:-0600
RDATE:20201101T020000
RDATE:20211107T020000
END:STANDARD
BEGIN:DAYLIGHT
TZNAME:CDT
DTSTART:20200308T020000
TZOFFSETFROM:-0600
TZOFFSETTO:-0500
RDATE:20210314T020000
END:DAYLIGHT
END:VTIMEZONE
BEGIN:VEVENT
UID:1e5fa090-6ec9-43e4-b062-934bd56225f4
DTSTAMP:20260425T210046Z
DESCRIPTION:Please bring drinking water
DTSTART;TZID=America/Chicago:20200716T160000
DTEND;TZID=America/Chicago:20200716T170000
LOCATION:Firespring
SUMMARY:Walking Group
END:VEVENT
END:VCALENDAR
