BEGIN:VCALENDAR
VERSION:2.0
PRODID:-//phil.firespring.org//NONSGML kigkonsult.se iCalcreator 2.30.10//
CALSCALE:GREGORIAN
METHOD:PUBLISH
UID:35d7419b-9b76-4c31-b7fb-f516c3b1fd3f
X-WR-CALDESC:Join us as we celebrate our community and organize one new pro
 ject each month. Sack lunches will be provided for those that are staying 
 longer than two hours.
X-WR-RELCALID:7caf8f12ffa0c32051f6d1ca8ca5dce8
X-WR-TIMEZONE:America/Chicago
BEGIN:VTIMEZONE
TZID:America/Chicago
BEGIN:STANDARD
TZNAME:CST
DTSTART:20191103T020000
TZOFFSETFROM:-0500
TZOFFSETTO:-0600
RDATE:20201101T020000
RDATE:20211107T020000
END:STANDARD
BEGIN:DAYLIGHT
TZNAME:CDT
DTSTART:20200308T020000
TZOFFSETFROM:-0600
TZOFFSETTO:-0500
RDATE:20210314T020000
END:DAYLIGHT
END:VTIMEZONE
BEGIN:VEVENT
UID:8082535a-6672-482e-bbbf-e3d42bac1ea2
DTSTAMP:20260425T210352Z
DESCRIPTION:Join us as we celebrate our community and organize one new proj
 ect each month. Sack lunches will be provided for those that are staying l
 onger than two hours.
DTSTART;TZID=America/Chicago:20200719T090000
DTEND;TZID=America/Chicago:20200719T150000
LOCATION:City Park
SUMMARY:Community Outreach
END:VEVENT
END:VCALENDAR
