BEGIN:VCALENDAR
VERSION:2.0
PRODID:-//phil.firespring.org//NONSGML kigkonsult.se iCalcreator 2.30.10//
CALSCALE:GREGORIAN
METHOD:PUBLISH
UID:5a95d4a2-3b03-4074-b6f5-c9b9964ef55a
X-WR-CALDESC:Please bring drinking water
X-WR-RELCALID:b9848682b02e55d8047fecbebd20d00f
X-WR-TIMEZONE:America/Chicago
BEGIN:VTIMEZONE
TZID:America/Chicago
BEGIN:STANDARD
TZNAME:CST
DTSTART:20191103T020000
TZOFFSETFROM:-0500
TZOFFSETTO:-0600
RDATE:20201101T020000
RDATE:20211107T020000
END:STANDARD
BEGIN:DAYLIGHT
TZNAME:CDT
DTSTART:20200308T020000
TZOFFSETFROM:-0600
TZOFFSETTO:-0500
RDATE:20210314T020000
END:DAYLIGHT
END:VTIMEZONE
BEGIN:VEVENT
UID:5a4e3f20-388f-4fcf-baa5-135c8e47aef1
DTSTAMP:20260425T194515Z
DESCRIPTION:Please bring drinking water
DTSTART;TZID=America/Chicago:20200813T160000
DTEND;TZID=America/Chicago:20200815T170000
LOCATION:Firespring
SUMMARY:Walking Group
END:VEVENT
END:VCALENDAR
