BEGIN:VCALENDAR
VERSION:2.0
PRODID:-//phil.firespring.org//NONSGML kigkonsult.se iCalcreator 2.30.10//
CALSCALE:GREGORIAN
METHOD:PUBLISH
UID:12bbe0d2-129b-4e30-8c42-3779f5d5103f
X-WR-CALDESC:Please bring drinking water
X-WR-RELCALID:27343bbbd975eb8c544b281dca679929
X-WR-TIMEZONE:America/Chicago
BEGIN:VTIMEZONE
TZID:America/Chicago
BEGIN:STANDARD
TZNAME:CST
DTSTART:20191103T020000
TZOFFSETFROM:-0500
TZOFFSETTO:-0600
RDATE:20201101T020000
RDATE:20211107T020000
END:STANDARD
BEGIN:DAYLIGHT
TZNAME:CDT
DTSTART:20200308T020000
TZOFFSETFROM:-0600
TZOFFSETTO:-0500
RDATE:20210314T020000
END:DAYLIGHT
END:VTIMEZONE
BEGIN:VEVENT
UID:c446cb3b-40f4-40d2-aaf5-d88beec29117
DTSTAMP:20260425T194515Z
DESCRIPTION:Please bring drinking water
DTSTART;TZID=America/Chicago:20200827T160000
DTEND;TZID=America/Chicago:20200827T170000
LOCATION:Firespring
SUMMARY:Walking Group
END:VEVENT
END:VCALENDAR
