BEGIN:VCALENDAR
VERSION:2.0
PRODID:-//phil.firespring.org//NONSGML kigkonsult.se iCalcreator 2.30.10//
CALSCALE:GREGORIAN
METHOD:PUBLISH
UID:848a5cff-a7ea-453c-9cd7-cad3948ce8d3
X-WR-CALDESC:
X-WR-RELCALID:f39234d6b7345ec94fa514937e116057
X-WR-TIMEZONE:America/Chicago
BEGIN:VTIMEZONE
TZID:America/Chicago
BEGIN:STANDARD
TZNAME:CST
DTSTART:20191103T020000
TZOFFSETFROM:-0500
TZOFFSETTO:-0600
RDATE:20201101T020000
RDATE:20211107T020000
END:STANDARD
BEGIN:DAYLIGHT
TZNAME:CDT
DTSTART:20200308T020000
TZOFFSETFROM:-0600
TZOFFSETTO:-0500
RDATE:20210314T020000
END:DAYLIGHT
END:VTIMEZONE
BEGIN:VEVENT
UID:ba40410d-df2c-484f-ae8e-18636f166aca
DTSTAMP:20260425T194139Z
DESCRIPTION:
DTSTART;TZID=America/Chicago:20200831T123000
DTEND;TZID=America/Chicago:20200831T133000
LOCATION:
SUMMARY:Webinar Cyber Security
END:VEVENT
END:VCALENDAR
