BEGIN:VCALENDAR
VERSION:2.0
PRODID:-//phil.firespring.org//NONSGML kigkonsult.se iCalcreator 2.30.10//
CALSCALE:GREGORIAN
METHOD:PUBLISH
UID:4e0ed8e5-a8a1-4a99-9f8e-32649333b12e
X-WR-CALDESC:Please bring drinking water
X-WR-RELCALID:12174b56d9aad9fb393c43e6dfe681a8
X-WR-TIMEZONE:America/Chicago
BEGIN:VTIMEZONE
TZID:America/Chicago
BEGIN:STANDARD
TZNAME:CST
DTSTART:20191103T020000
TZOFFSETFROM:-0500
TZOFFSETTO:-0600
RDATE:20201101T020000
RDATE:20211107T020000
END:STANDARD
BEGIN:DAYLIGHT
TZNAME:CDT
DTSTART:20200308T020000
TZOFFSETFROM:-0600
TZOFFSETTO:-0500
RDATE:20210314T020000
END:DAYLIGHT
END:VTIMEZONE
BEGIN:VEVENT
UID:eb843944-1ce9-46a7-8343-1819d18e277c
DTSTAMP:20260425T183251Z
DESCRIPTION:Please bring drinking water
DTSTART;TZID=America/Chicago:20200903T160000
DTEND;TZID=America/Chicago:20200903T170000
LOCATION:Firespring
SUMMARY:Walking Group
END:VEVENT
END:VCALENDAR
