BEGIN:VCALENDAR
VERSION:2.0
PRODID:-//phil.firespring.org//NONSGML kigkonsult.se iCalcreator 2.30.10//
CALSCALE:GREGORIAN
METHOD:PUBLISH
UID:c54e13d3-11be-419b-92d2-c935f84d9a40
X-WR-CALDESC:
X-WR-RELCALID:9643dac5a1590f7025cf251e65eac787
X-WR-TIMEZONE:America/Chicago
BEGIN:VTIMEZONE
TZID:America/Chicago
BEGIN:STANDARD
TZNAME:CST
DTSTART:20191103T020000
TZOFFSETFROM:-0500
TZOFFSETTO:-0600
RDATE:20201101T020000
RDATE:20211107T020000
END:STANDARD
BEGIN:DAYLIGHT
TZNAME:CDT
DTSTART:20200308T020000
TZOFFSETFROM:-0600
TZOFFSETTO:-0500
RDATE:20210314T020000
RDATE:20220313T020000
END:DAYLIGHT
END:VTIMEZONE
BEGIN:VEVENT
UID:f51682f1-dab8-48a3-a58b-6c90be87b53b
DTSTAMP:20260425T181211Z
DESCRIPTION:
DTSTART;TZID=America/Chicago:20200921T143000
DTEND;TZID=America/Chicago:20200921T153000
LOCATION:
SUMMARY:Fundraiser
END:VEVENT
END:VCALENDAR
