BEGIN:VCALENDAR
VERSION:2.0
PRODID:-//phil.firespring.org//NONSGML kigkonsult.se iCalcreator 2.30.10//
CALSCALE:GREGORIAN
METHOD:PUBLISH
UID:4d70d419-e04e-4802-9ded-cd4aefe72562
X-WR-CALDESC:
X-WR-RELCALID:dc08fbdaa7f0d0a01f975e280615dfa2
X-WR-TIMEZONE:America/Chicago
BEGIN:VTIMEZONE
TZID:America/Chicago
BEGIN:STANDARD
TZNAME:CST
DTSTART:20191103T020000
TZOFFSETFROM:-0500
TZOFFSETTO:-0600
RDATE:20201101T020000
RDATE:20211107T020000
END:STANDARD
BEGIN:DAYLIGHT
TZNAME:CDT
DTSTART:20200308T020000
TZOFFSETFROM:-0600
TZOFFSETTO:-0500
RDATE:20210314T020000
RDATE:20220313T020000
END:DAYLIGHT
END:VTIMEZONE
BEGIN:VEVENT
UID:7a78b826-e577-4ab8-a37d-9cdc522edb45
DTSTAMP:20260425T182843Z
DESCRIPTION:
DTSTART;TZID=America/Chicago:20200922T150000
DTEND;TZID=America/Chicago:20200922T160000
LOCATION:
SUMMARY:Hero Breakfast
END:VEVENT
END:VCALENDAR
