BEGIN:VCALENDAR
VERSION:2.0
PRODID:-//phil.firespring.org//NONSGML kigkonsult.se iCalcreator 2.30.10//
CALSCALE:GREGORIAN
METHOD:PUBLISH
UID:7d7dde5c-6629-47c2-9b16-43cb366ffc12
X-WR-CALDESC:Please bring drinking water
X-WR-RELCALID:0eb495e80450f84a96000cea85d6a804
X-WR-TIMEZONE:America/Chicago
BEGIN:VTIMEZONE
TZID:America/Chicago
BEGIN:STANDARD
TZNAME:CST
DTSTART:20191103T020000
TZOFFSETFROM:-0500
TZOFFSETTO:-0600
RDATE:20201101T020000
RDATE:20211107T020000
END:STANDARD
BEGIN:DAYLIGHT
TZNAME:CDT
DTSTART:20200308T020000
TZOFFSETFROM:-0600
TZOFFSETTO:-0500
RDATE:20210314T020000
RDATE:20220313T020000
END:DAYLIGHT
END:VTIMEZONE
BEGIN:VEVENT
UID:5c2cfca1-bd44-44ab-a519-e8df788be2b2
DTSTAMP:20260425T183343Z
DESCRIPTION:Please bring drinking water
DTSTART;TZID=America/Chicago:20200924T160000
DTEND;TZID=America/Chicago:20200924T170000
LOCATION:Firespring
SUMMARY:Walking Group
END:VEVENT
END:VCALENDAR
