BEGIN:VCALENDAR
VERSION:2.0
PRODID:-//phil.firespring.org//NONSGML kigkonsult.se iCalcreator 2.30.10//
CALSCALE:GREGORIAN
METHOD:PUBLISH
UID:980590bf-bcb7-4426-a4ea-77516f77312d
X-WR-CALDESC:
X-WR-RELCALID:7e55f6592cab36ea9fd2819fe4267ec5
X-WR-TIMEZONE:America/Chicago
BEGIN:VTIMEZONE
TZID:America/Chicago
BEGIN:STANDARD
TZNAME:CST
DTSTART:20191103T020000
TZOFFSETFROM:-0500
TZOFFSETTO:-0600
RDATE:20201101T020000
RDATE:20211107T020000
END:STANDARD
BEGIN:DAYLIGHT
TZNAME:CDT
DTSTART:20200308T020000
TZOFFSETFROM:-0600
TZOFFSETTO:-0500
RDATE:20210314T020000
RDATE:20220313T020000
END:DAYLIGHT
END:VTIMEZONE
BEGIN:VEVENT
UID:23230d57-e4fb-4e72-8f92-dbc3b7739871
DTSTAMP:20260425T182924Z
DESCRIPTION:
DTSTART;TZID=America/Chicago:20200929T140000
DTEND;TZID=America/Chicago:20200929T150000
LOCATION:
SUMMARY:Hiking Training
END:VEVENT
END:VCALENDAR
