BEGIN:VCALENDAR
VERSION:2.0
PRODID:-//phil.firespring.org//NONSGML kigkonsult.se iCalcreator 2.30.10//
CALSCALE:GREGORIAN
METHOD:PUBLISH
UID:180ff3e0-f6b4-48f9-a132-2397b3fd21c9
X-WR-CALDESC:Please bring drinking water
X-WR-RELCALID:b5ea891bfe04af2c7809e416871dc52d
X-WR-TIMEZONE:America/Chicago
BEGIN:VTIMEZONE
TZID:America/Chicago
BEGIN:STANDARD
TZNAME:CST
DTSTART:20191103T020000
TZOFFSETFROM:-0500
TZOFFSETTO:-0600
RDATE:20201101T020000
RDATE:20211107T020000
END:STANDARD
BEGIN:DAYLIGHT
TZNAME:CDT
DTSTART:20200308T020000
TZOFFSETFROM:-0600
TZOFFSETTO:-0500
RDATE:20210314T020000
RDATE:20220313T020000
END:DAYLIGHT
END:VTIMEZONE
BEGIN:VEVENT
UID:e264f597-1349-45b2-9b1b-d526ddf0e58b
DTSTAMP:20260425T170328Z
DESCRIPTION:Please bring drinking water
DTSTART;TZID=America/Chicago:20201001T160000
DTEND;TZID=America/Chicago:20201001T170000
LOCATION:Firespring
SUMMARY:Walking Group
END:VEVENT
END:VCALENDAR
