BEGIN:VCALENDAR
VERSION:2.0
PRODID:-//phil.firespring.org//NONSGML kigkonsult.se iCalcreator 2.30.10//
CALSCALE:GREGORIAN
METHOD:PUBLISH
UID:b883209e-87f8-4962-9888-5c0339144d52
X-WR-CALDESC:
X-WR-RELCALID:1c91b058370278e8b15e194cd62abd53
X-WR-TIMEZONE:America/Chicago
BEGIN:VTIMEZONE
TZID:America/Chicago
BEGIN:STANDARD
TZNAME:CST
DTSTART:20191103T020000
TZOFFSETFROM:-0500
TZOFFSETTO:-0600
RDATE:20201101T020000
RDATE:20211107T020000
END:STANDARD
BEGIN:DAYLIGHT
TZNAME:CDT
DTSTART:20200308T020000
TZOFFSETFROM:-0600
TZOFFSETTO:-0500
RDATE:20210314T020000
RDATE:20220313T020000
END:DAYLIGHT
END:VTIMEZONE
BEGIN:VEVENT
UID:a05d2785-6026-4d9f-8495-35d39e678ea4
DTSTAMP:20260425T170010Z
DESCRIPTION:
DTSTART;TZID=America/Chicago:20201029T143000
DTEND;TZID=America/Chicago:20201029T153000
LOCATION:
SUMMARY:Test
END:VEVENT
END:VCALENDAR
