BEGIN:VCALENDAR
VERSION:2.0
PRODID:-//phil.firespring.org//NONSGML kigkonsult.se iCalcreator 2.30.10//
CALSCALE:GREGORIAN
METHOD:PUBLISH
UID:1d831301-6443-4853-8988-61f211c678e4
X-WR-CALDESC:Please bring drinking water
X-WR-RELCALID:7b687d22c53c24e257d60c9d3eec0ec7
X-WR-TIMEZONE:America/Chicago
BEGIN:VTIMEZONE
TZID:America/Chicago
BEGIN:STANDARD
TZNAME:CST
DTSTART:20201101T020000
TZOFFSETFROM:-0500
TZOFFSETTO:-0600
RDATE:20211107T020000
END:STANDARD
BEGIN:DAYLIGHT
TZNAME:CDT
DTSTART:20200308T020000
TZOFFSETFROM:-0600
TZOFFSETTO:-0500
RDATE:20210314T020000
RDATE:20220313T020000
END:DAYLIGHT
END:VTIMEZONE
BEGIN:VEVENT
UID:26958883-8cc9-4243-bba0-3ae3ff7229a5
DTSTAMP:20260425T154737Z
DESCRIPTION:Please bring drinking water
DTSTART;TZID=America/Chicago:20201119T160000
DTEND;TZID=America/Chicago:20201119T170000
LOCATION:Firespring
SUMMARY:Walking Group
END:VEVENT
END:VCALENDAR
