BEGIN:VCALENDAR
VERSION:2.0
PRODID:-//phil.firespring.org//NONSGML kigkonsult.se iCalcreator 2.30.10//
CALSCALE:GREGORIAN
METHOD:PUBLISH
UID:5b27405f-4140-4b15-a426-3c521f7fae67
X-WR-CALDESC:Please bring drinking water
X-WR-RELCALID:dd9ca690c2e225525f55de132adbb26f
X-WR-TIMEZONE:America/Chicago
BEGIN:VTIMEZONE
TZID:America/Chicago
BEGIN:STANDARD
TZNAME:CST
DTSTART:20201101T020000
TZOFFSETFROM:-0500
TZOFFSETTO:-0600
RDATE:20211107T020000
END:STANDARD
BEGIN:DAYLIGHT
TZNAME:CDT
DTSTART:20200308T020000
TZOFFSETFROM:-0600
TZOFFSETTO:-0500
RDATE:20210314T020000
RDATE:20220313T020000
END:DAYLIGHT
END:VTIMEZONE
BEGIN:VEVENT
UID:e0688605-370d-4d21-bddd-3a51b29fe4a2
DTSTAMP:20260425T142805Z
DESCRIPTION:Please bring drinking water
DTSTART;TZID=America/Chicago:20201210T160000
DTEND;TZID=America/Chicago:20201210T170000
LOCATION:Firespring
SUMMARY:Walking Group
END:VEVENT
END:VCALENDAR
