BEGIN:VCALENDAR
VERSION:2.0
PRODID:-//phil.firespring.org//NONSGML kigkonsult.se iCalcreator 2.30.10//
CALSCALE:GREGORIAN
METHOD:PUBLISH
UID:8696837d-0495-4902-b038-7089713fbe67
X-WR-CALDESC:Please bring drinking water
X-WR-RELCALID:0fda1204176a91ca214ffb60c675da98
X-WR-TIMEZONE:America/Chicago
BEGIN:VTIMEZONE
TZID:America/Chicago
BEGIN:STANDARD
TZNAME:CST
DTSTART:20201101T020000
TZOFFSETFROM:-0500
TZOFFSETTO:-0600
RDATE:20211107T020000
END:STANDARD
BEGIN:DAYLIGHT
TZNAME:CDT
DTSTART:20200308T020000
TZOFFSETFROM:-0600
TZOFFSETTO:-0500
RDATE:20210314T020000
RDATE:20220313T020000
END:DAYLIGHT
END:VTIMEZONE
BEGIN:VEVENT
UID:8066e9ab-7c9f-4f1f-a98d-9c3e86b3c124
DTSTAMP:20260425T142706Z
DESCRIPTION:Please bring drinking water
DTSTART;TZID=America/Chicago:20201217T160000
DTEND;TZID=America/Chicago:20201217T170000
LOCATION:Firespring
SUMMARY:Walking Group
END:VEVENT
END:VCALENDAR
