BEGIN:VCALENDAR
VERSION:2.0
PRODID:-//phil.firespring.org//NONSGML kigkonsult.se iCalcreator 2.30.10//
CALSCALE:GREGORIAN
METHOD:PUBLISH
UID:234b9f39-7a4e-4399-8799-716e82d3bebd
X-WR-CALDESC:Please bring drinking water
X-WR-RELCALID:b09dc0110dfa99e547b47143ca7a4627
X-WR-TIMEZONE:America/Chicago
BEGIN:VTIMEZONE
TZID:America/Chicago
BEGIN:STANDARD
TZNAME:CST
DTSTART:20201101T020000
TZOFFSETFROM:-0500
TZOFFSETTO:-0600
RDATE:20211107T020000
END:STANDARD
BEGIN:DAYLIGHT
TZNAME:CDT
DTSTART:20200308T020000
TZOFFSETFROM:-0600
TZOFFSETTO:-0500
RDATE:20210314T020000
RDATE:20220313T020000
END:DAYLIGHT
END:VTIMEZONE
BEGIN:VEVENT
UID:5da6643a-3128-4c1e-94bf-f504d777c696
DTSTAMP:20260425T142707Z
DESCRIPTION:Please bring drinking water
DTSTART;TZID=America/Chicago:20201224T160000
DTEND;TZID=America/Chicago:20201224T170000
LOCATION:Firespring
SUMMARY:Walking Group
END:VEVENT
END:VCALENDAR
