BEGIN:VCALENDAR
VERSION:2.0
PRODID:-//phil.firespring.org//NONSGML kigkonsult.se iCalcreator 2.30.10//
CALSCALE:GREGORIAN
METHOD:PUBLISH
UID:5e08df6a-a14e-46dd-bc08-beb9fc92d3ab
X-WR-CALDESC:Please bring drinking water
X-WR-RELCALID:9c3c09e17f9ffe4bfd4d622c905e770b
X-WR-TIMEZONE:America/Chicago
BEGIN:VTIMEZONE
TZID:America/Chicago
BEGIN:STANDARD
TZNAME:CST
DTSTART:20201101T020000
TZOFFSETFROM:-0500
TZOFFSETTO:-0600
RDATE:20211107T020000
END:STANDARD
BEGIN:DAYLIGHT
TZNAME:CDT
DTSTART:20200308T020000
TZOFFSETFROM:-0600
TZOFFSETTO:-0500
RDATE:20210314T020000
RDATE:20220313T020000
END:DAYLIGHT
END:VTIMEZONE
BEGIN:VEVENT
UID:99f3e5f4-c208-4c72-95f1-eccea784870a
DTSTAMP:20260425T130436Z
DESCRIPTION:Please bring drinking water
DTSTART;TZID=America/Chicago:20210107T160000
DTEND;TZID=America/Chicago:20210107T170000
LOCATION:Firespring
SUMMARY:Walking Group
END:VEVENT
END:VCALENDAR
