BEGIN:VCALENDAR
VERSION:2.0
PRODID:-//phil.firespring.org//NONSGML kigkonsult.se iCalcreator 2.30.10//
CALSCALE:GREGORIAN
METHOD:PUBLISH
UID:c0edbaa1-744d-44c1-afca-c83e3dc5cb1d
X-WR-CALDESC:Please bring drinking water
X-WR-RELCALID:216dc0e5e82db6a9fe72acb36bc64dce
X-WR-TIMEZONE:America/Chicago
BEGIN:VTIMEZONE
TZID:America/Chicago
BEGIN:STANDARD
TZNAME:CST
DTSTART:20201101T020000
TZOFFSETFROM:-0500
TZOFFSETTO:-0600
RDATE:20211107T020000
END:STANDARD
BEGIN:DAYLIGHT
TZNAME:CDT
DTSTART:20200308T020000
TZOFFSETFROM:-0600
TZOFFSETTO:-0500
RDATE:20210314T020000
RDATE:20220313T020000
END:DAYLIGHT
END:VTIMEZONE
BEGIN:VEVENT
UID:be1826f0-ab46-4361-b0dc-9832800d3ce8
DTSTAMP:20260425T114438Z
DESCRIPTION:Please bring drinking water
DTSTART;TZID=America/Chicago:20210218T160000
DTEND;TZID=America/Chicago:20210218T170000
LOCATION:Firespring
SUMMARY:Walking Group
END:VEVENT
END:VCALENDAR
