BEGIN:VCALENDAR
VERSION:2.0
PRODID:-//phil.firespring.org//NONSGML kigkonsult.se iCalcreator 2.30.10//
CALSCALE:GREGORIAN
METHOD:PUBLISH
UID:28d67591-aa83-465e-8268-8e902a7de185
X-WR-CALDESC:Please bring drinking water
X-WR-RELCALID:ef43169924264c5f21fd7509a9a58295
X-WR-TIMEZONE:America/Chicago
BEGIN:VTIMEZONE
TZID:America/Chicago
BEGIN:STANDARD
TZNAME:CST
DTSTART:20201101T020000
TZOFFSETFROM:-0500
TZOFFSETTO:-0600
RDATE:20211107T020000
END:STANDARD
BEGIN:DAYLIGHT
TZNAME:CDT
DTSTART:20200308T020000
TZOFFSETFROM:-0600
TZOFFSETTO:-0500
RDATE:20210314T020000
RDATE:20220313T020000
END:DAYLIGHT
END:VTIMEZONE
BEGIN:VEVENT
UID:3e9b1bbe-3f7f-4c72-b28d-564dd71b0b66
DTSTAMP:20260425T114431Z
DESCRIPTION:Please bring drinking water
DTSTART;TZID=America/Chicago:20210225T160000
DTEND;TZID=America/Chicago:20210225T170000
LOCATION:Firespring
SUMMARY:Walking Group
END:VEVENT
END:VCALENDAR
