BEGIN:VCALENDAR
VERSION:2.0
PRODID:-//phil.firespring.org//NONSGML kigkonsult.se iCalcreator 2.30.10//
CALSCALE:GREGORIAN
METHOD:PUBLISH
UID:725ae673-a70d-461b-925e-58a3dbe76966
X-WR-CALDESC:
X-WR-RELCALID:a1f774462626cfccbad369d92e57612d
X-WR-TIMEZONE:America/Chicago
BEGIN:VTIMEZONE
TZID:America/Chicago
BEGIN:STANDARD
TZNAME:CST
DTSTART:20201101T020000
TZOFFSETFROM:-0500
TZOFFSETTO:-0600
RDATE:20211107T020000
END:STANDARD
BEGIN:DAYLIGHT
TZNAME:CDT
DTSTART:20200308T020000
TZOFFSETFROM:-0600
TZOFFSETTO:-0500
RDATE:20210314T020000
RDATE:20220313T020000
END:DAYLIGHT
END:VTIMEZONE
BEGIN:VEVENT
UID:ac1e26cf-2707-435f-9d31-50c45e6d1bb1
DTSTAMP:20260425T113611Z
DESCRIPTION:
DTSTART;TZID=America/Chicago:20210226T103000
DTEND;TZID=America/Chicago:20210226T113000
LOCATION:
SUMMARY:Community Celebration
END:VEVENT
END:VCALENDAR
