BEGIN:VCALENDAR
VERSION:2.0
PRODID:-//phil.firespring.org//NONSGML kigkonsult.se iCalcreator 2.30.10//
CALSCALE:GREGORIAN
METHOD:PUBLISH
UID:a53b7e9d-8b78-4907-9b39-fb25350ab658
X-WR-CALDESC:
X-WR-RELCALID:e50fd89a09b2f8f5be13a27d85c1c511
X-WR-TIMEZONE:America/Chicago
BEGIN:VTIMEZONE
TZID:America/Chicago
BEGIN:STANDARD
TZNAME:CST
DTSTART:20201101T020000
TZOFFSETFROM:-0500
TZOFFSETTO:-0600
RDATE:20211107T020000
END:STANDARD
BEGIN:DAYLIGHT
TZNAME:CDT
DTSTART:20200308T020000
TZOFFSETFROM:-0600
TZOFFSETTO:-0500
RDATE:20210314T020000
RDATE:20220313T020000
END:DAYLIGHT
END:VTIMEZONE
BEGIN:VEVENT
UID:ddc4de9c-3ca4-4352-9e99-804511196925
DTSTAMP:20260425T113739Z
DESCRIPTION:
DTSTART;TZID=America/Chicago:20210227T140000
DTEND;TZID=America/Chicago:20210227T150000
LOCATION:
SUMMARY:Builders Classic
END:VEVENT
END:VCALENDAR
