BEGIN:VCALENDAR
VERSION:2.0
PRODID:-//phil.firespring.org//NONSGML kigkonsult.se iCalcreator 2.30.10//
CALSCALE:GREGORIAN
METHOD:PUBLISH
UID:377237e7-109a-491a-81a0-2951e4da9411
X-WR-CALDESC:Please bring drinking water
X-WR-RELCALID:93a7aea59ee3f3836fbe8c6c54bc1180
X-WR-TIMEZONE:America/Chicago
BEGIN:VTIMEZONE
TZID:America/Chicago
BEGIN:STANDARD
TZNAME:CST
DTSTART:20201101T020000
TZOFFSETFROM:-0500
TZOFFSETTO:-0600
RDATE:20211107T020000
END:STANDARD
BEGIN:DAYLIGHT
TZNAME:CDT
DTSTART:20200308T020000
TZOFFSETFROM:-0600
TZOFFSETTO:-0500
RDATE:20210314T020000
RDATE:20220313T020000
END:DAYLIGHT
END:VTIMEZONE
BEGIN:VEVENT
UID:cc7865e6-8f3a-4eb3-a49a-3a973786f173
DTSTAMP:20260425T102833Z
DESCRIPTION:Please bring drinking water
DTSTART;TZID=America/Chicago:20210304T160000
DTEND;TZID=America/Chicago:20210304T170000
LOCATION:Firespring
SUMMARY:Walking Group
END:VEVENT
END:VCALENDAR
