BEGIN:VCALENDAR
VERSION:2.0
PRODID:-//phil.firespring.org//NONSGML kigkonsult.se iCalcreator 2.30.10//
CALSCALE:GREGORIAN
METHOD:PUBLISH
UID:14df2783-b712-4984-84cb-d1ead507de3e
X-WR-CALDESC:Please bring drinking water
X-WR-RELCALID:d193d9df95e8110cfeb13867a94165cc
X-WR-TIMEZONE:America/Chicago
BEGIN:VTIMEZONE
TZID:America/Chicago
BEGIN:STANDARD
TZNAME:CST
DTSTART:20201101T020000
TZOFFSETFROM:-0500
TZOFFSETTO:-0600
RDATE:20211107T020000
END:STANDARD
BEGIN:DAYLIGHT
TZNAME:CDT
DTSTART:20210314T020000
TZOFFSETFROM:-0600
TZOFFSETTO:-0500
RDATE:20220313T020000
END:DAYLIGHT
END:VTIMEZONE
BEGIN:VEVENT
UID:d1aa2880-e5dd-4361-94db-257ff77e0d0a
DTSTAMP:20260425T102908Z
DESCRIPTION:Please bring drinking water
DTSTART;TZID=America/Chicago:20210325T160000
DTEND;TZID=America/Chicago:20210325T170000
LOCATION:Firespring
SUMMARY:Walking Group
END:VEVENT
END:VCALENDAR
