BEGIN:VCALENDAR
VERSION:2.0
PRODID:-//phil.firespring.org//NONSGML kigkonsult.se iCalcreator 2.30.10//
CALSCALE:GREGORIAN
METHOD:PUBLISH
UID:7cc54fc8-8796-450a-a12d-b67671577b78
X-WR-CALDESC:Please bring drinking water
X-WR-RELCALID:a7b0ae5c2bbc3768e6a6bc2d8f4ea181
X-WR-TIMEZONE:America/Chicago
BEGIN:VTIMEZONE
TZID:America/Chicago
BEGIN:STANDARD
TZNAME:CST
DTSTART:20201101T020000
TZOFFSETFROM:-0500
TZOFFSETTO:-0600
RDATE:20211107T020000
END:STANDARD
BEGIN:DAYLIGHT
TZNAME:CDT
DTSTART:20210314T020000
TZOFFSETFROM:-0600
TZOFFSETTO:-0500
RDATE:20220313T020000
END:DAYLIGHT
END:VTIMEZONE
BEGIN:VEVENT
UID:a589b95b-9717-49a5-9422-e3da68d65759
DTSTAMP:20260423T081033Z
DESCRIPTION:Please bring drinking water
DTSTART;TZID=America/Chicago:20210506T160000
DTEND;TZID=America/Chicago:20210506T170000
LOCATION:Firespring
SUMMARY:Walking Group
END:VEVENT
END:VCALENDAR
