BEGIN:VCALENDAR
VERSION:2.0
PRODID:-//phil.firespring.org//NONSGML kigkonsult.se iCalcreator 2.30.10//
CALSCALE:GREGORIAN
METHOD:PUBLISH
UID:bba3071c-40f4-4557-a575-c8cc871cff4f
X-WR-CALDESC:Please bring drinking water
X-WR-RELCALID:50fdb457570b4ddd2e6809010f874866
X-WR-TIMEZONE:America/Chicago
BEGIN:VTIMEZONE
TZID:America/Chicago
BEGIN:STANDARD
TZNAME:CST
DTSTART:20201101T020000
TZOFFSETFROM:-0500
TZOFFSETTO:-0600
RDATE:20211107T020000
RDATE:20221106T020000
END:STANDARD
BEGIN:DAYLIGHT
TZNAME:CDT
DTSTART:20210314T020000
TZOFFSETFROM:-0600
TZOFFSETTO:-0500
RDATE:20220313T020000
END:DAYLIGHT
END:VTIMEZONE
BEGIN:VEVENT
UID:81848ee5-7b72-4ac1-b60f-aa381d796046
DTSTAMP:20260423T081033Z
DESCRIPTION:Please bring drinking water
DTSTART;TZID=America/Chicago:20210513T160000
DTEND;TZID=America/Chicago:20210513T170000
LOCATION:Firespring
SUMMARY:Walking Group
END:VEVENT
END:VCALENDAR
