BEGIN:VCALENDAR
VERSION:2.0
PRODID:-//phil.firespring.org//NONSGML kigkonsult.se iCalcreator 2.30.10//
CALSCALE:GREGORIAN
METHOD:PUBLISH
UID:0b78b5c7-7b88-4460-bab7-9b57552db199
X-WR-CALDESC:
X-WR-RELCALID:6fe007c559ffda0a01da7488569284d4
X-WR-TIMEZONE:America/Chicago
BEGIN:VTIMEZONE
TZID:America/Chicago
BEGIN:STANDARD
TZNAME:CST
DTSTART:20201101T020000
TZOFFSETFROM:-0500
TZOFFSETTO:-0600
RDATE:20211107T020000
RDATE:20221106T020000
END:STANDARD
BEGIN:DAYLIGHT
TZNAME:CDT
DTSTART:20210314T020000
TZOFFSETFROM:-0600
TZOFFSETTO:-0500
RDATE:20220313T020000
END:DAYLIGHT
END:VTIMEZONE
BEGIN:VEVENT
UID:2d8df75f-189c-4a27-87a7-f6c9bc3ebfee
DTSTAMP:20260423T081031Z
DESCRIPTION:
DTSTART;TZID=America/Chicago:20210519T100000
DTEND;TZID=America/Chicago:20210519T110000
LOCATION:
SUMMARY:Gala
END:VEVENT
END:VCALENDAR
