BEGIN:VCALENDAR
VERSION:2.0
PRODID:-//phil.firespring.org//NONSGML kigkonsult.se iCalcreator 2.30.10//
CALSCALE:GREGORIAN
METHOD:PUBLISH
UID:872667d0-f65c-4d52-a41b-86d9c8fc3779
X-WR-CALDESC:Please bring drinking water
X-WR-RELCALID:8669b506d1e4599b0170910b4982acde
X-WR-TIMEZONE:America/Chicago
BEGIN:VTIMEZONE
TZID:America/Chicago
BEGIN:STANDARD
TZNAME:CST
DTSTART:20201101T020000
TZOFFSETFROM:-0500
TZOFFSETTO:-0600
RDATE:20211107T020000
RDATE:20221106T020000
END:STANDARD
BEGIN:DAYLIGHT
TZNAME:CDT
DTSTART:20210314T020000
TZOFFSETFROM:-0600
TZOFFSETTO:-0500
RDATE:20220313T020000
END:DAYLIGHT
END:VTIMEZONE
BEGIN:VEVENT
UID:f179fe32-2eb5-451b-a5f4-f59d63c7e200
DTSTAMP:20260423T081108Z
DESCRIPTION:Please bring drinking water
DTSTART;TZID=America/Chicago:20210520T160000
DTEND;TZID=America/Chicago:20210520T170000
LOCATION:Firespring
SUMMARY:Walking Group
END:VEVENT
END:VCALENDAR
