BEGIN:VCALENDAR
VERSION:2.0
PRODID:-//phil.firespring.org//NONSGML kigkonsult.se iCalcreator 2.30.10//
CALSCALE:GREGORIAN
METHOD:PUBLISH
UID:f46ba2aa-95a0-468a-b6eb-5b8984290073
X-WR-CALDESC:
X-WR-RELCALID:6a7e5ca992c03b1539f56d7c51d2bbcf
X-WR-TIMEZONE:America/Chicago
BEGIN:VTIMEZONE
TZID:America/Chicago
BEGIN:STANDARD
TZNAME:CST
DTSTART:20201101T020000
TZOFFSETFROM:-0500
TZOFFSETTO:-0600
RDATE:20211107T020000
RDATE:20221106T020000
END:STANDARD
BEGIN:DAYLIGHT
TZNAME:CDT
DTSTART:20210314T020000
TZOFFSETFROM:-0600
TZOFFSETTO:-0500
RDATE:20220313T020000
END:DAYLIGHT
END:VTIMEZONE
BEGIN:VEVENT
UID:9632e7e6-d04f-45c2-85cc-9bd7f4c02153
DTSTAMP:20260423T081106Z
DESCRIPTION:
DTSTART;TZID=America/Chicago:20210527T153000
DTEND;TZID=America/Chicago:20210527T163000
LOCATION:
SUMMARY:District Annual Meeting
END:VEVENT
END:VCALENDAR
