BEGIN:VCALENDAR
VERSION:2.0
PRODID:-//phil.firespring.org//NONSGML kigkonsult.se iCalcreator 2.30.10//
CALSCALE:GREGORIAN
METHOD:PUBLISH
UID:0c72e3f9-025e-4c26-aff6-ee8d8e95efa0
X-WR-CALDESC:
X-WR-RELCALID:57211c83fdff34d1f64629d92c1190ba
X-WR-TIMEZONE:America/Chicago
BEGIN:VTIMEZONE
TZID:America/Chicago
BEGIN:STANDARD
TZNAME:CST
DTSTART:20201101T020000
TZOFFSETFROM:-0500
TZOFFSETTO:-0600
RDATE:20211107T020000
RDATE:20221106T020000
END:STANDARD
BEGIN:DAYLIGHT
TZNAME:CDT
DTSTART:20210314T020000
TZOFFSETFROM:-0600
TZOFFSETTO:-0500
RDATE:20220313T020000
END:DAYLIGHT
END:VTIMEZONE
BEGIN:VEVENT
UID:064d2fef-6380-4e59-9169-ec1548416ecf
DTSTAMP:20260423T080932Z
DESCRIPTION:
DTSTART;TZID=America/Chicago:20210527T150000
DTEND;TZID=America/Chicago:20210527T160000
LOCATION:
SUMMARY:Golf Event
END:VEVENT
END:VCALENDAR
