BEGIN:VCALENDAR
VERSION:2.0
PRODID:-//phil.firespring.org//NONSGML kigkonsult.se iCalcreator 2.30.10//
CALSCALE:GREGORIAN
METHOD:PUBLISH
UID:70a14641-cac0-461f-ba50-c7c337f5198d
X-WR-CALDESC:
X-WR-RELCALID:7000f2d8250025e30ca02b79ca6149df
X-WR-TIMEZONE:America/Chicago
BEGIN:VTIMEZONE
TZID:America/Chicago
BEGIN:STANDARD
TZNAME:CST
DTSTART:20201101T020000
TZOFFSETFROM:-0500
TZOFFSETTO:-0600
RDATE:20211107T020000
RDATE:20221106T020000
END:STANDARD
BEGIN:DAYLIGHT
TZNAME:CDT
DTSTART:20210314T020000
TZOFFSETFROM:-0600
TZOFFSETTO:-0500
RDATE:20220313T020000
END:DAYLIGHT
END:VTIMEZONE
BEGIN:VEVENT
UID:044dec0c-dc92-44f3-806c-f24b97fc0b48
DTSTAMP:20260423T080918Z
DESCRIPTION:
DTSTART;TZID=America/Chicago:20210531T103000
DTEND;TZID=America/Chicago:20210531T113000
LOCATION:
SUMMARY:Training
END:VEVENT
END:VCALENDAR
