BEGIN:VCALENDAR
VERSION:2.0
PRODID:-//phil.firespring.org//NONSGML kigkonsult.se iCalcreator 2.30.10//
CALSCALE:GREGORIAN
METHOD:PUBLISH
UID:969405fa-3f83-4c0a-8cb3-a4bf74947cc9
X-WR-CALDESC:Please bring drinking water
X-WR-RELCALID:0b85d8504a81792a79e074cffd3d42ab
X-WR-TIMEZONE:America/Chicago
BEGIN:VTIMEZONE
TZID:America/Chicago
BEGIN:STANDARD
TZNAME:CST
DTSTART:20201101T020000
TZOFFSETFROM:-0500
TZOFFSETTO:-0600
RDATE:20211107T020000
RDATE:20221106T020000
END:STANDARD
BEGIN:DAYLIGHT
TZNAME:CDT
DTSTART:20210314T020000
TZOFFSETFROM:-0600
TZOFFSETTO:-0500
RDATE:20220313T020000
END:DAYLIGHT
END:VTIMEZONE
BEGIN:VEVENT
UID:44bb9e5c-f302-4882-a931-ab7daf9aac2d
DTSTAMP:20260423T064846Z
DESCRIPTION:Please bring drinking water
DTSTART;TZID=America/Chicago:20210603T160000
DTEND;TZID=America/Chicago:20210603T170000
LOCATION:Firespring
SUMMARY:Walking Group
END:VEVENT
END:VCALENDAR
