BEGIN:VCALENDAR
VERSION:2.0
PRODID:-//phil.firespring.org//NONSGML kigkonsult.se iCalcreator 2.30.10//
CALSCALE:GREGORIAN
METHOD:PUBLISH
UID:439581dd-498f-4361-94c3-d6b3ce74500d
X-WR-CALDESC:Please bring drinking water
X-WR-RELCALID:bae6ccd15f98ee76f54914746b0738a7
X-WR-TIMEZONE:America/Chicago
BEGIN:VTIMEZONE
TZID:America/Chicago
BEGIN:STANDARD
TZNAME:CST
DTSTART:20201101T020000
TZOFFSETFROM:-0500
TZOFFSETTO:-0600
RDATE:20211107T020000
RDATE:20221106T020000
END:STANDARD
BEGIN:DAYLIGHT
TZNAME:CDT
DTSTART:20210314T020000
TZOFFSETFROM:-0600
TZOFFSETTO:-0500
RDATE:20220313T020000
END:DAYLIGHT
END:VTIMEZONE
BEGIN:VEVENT
UID:464f2f03-5704-4c62-88a5-95c89d993d46
DTSTAMP:20260423T064900Z
DESCRIPTION:Please bring drinking water
DTSTART;TZID=America/Chicago:20210617T160000
DTEND;TZID=America/Chicago:20210617T170000
LOCATION:Firespring
SUMMARY:Walking Group
END:VEVENT
END:VCALENDAR
