BEGIN:VCALENDAR
VERSION:2.0
PRODID:-//phil.firespring.org//NONSGML kigkonsult.se iCalcreator 2.30.10//
CALSCALE:GREGORIAN
METHOD:PUBLISH
UID:52906ec1-1c6b-49f2-b618-9528f166b36b
X-WR-CALDESC:
X-WR-RELCALID:ec9ffde725145f18f45eccdad46bab3c
X-WR-TIMEZONE:America/Chicago
BEGIN:VTIMEZONE
TZID:America/Chicago
BEGIN:STANDARD
TZNAME:CST
DTSTART:20201101T020000
TZOFFSETFROM:-0500
TZOFFSETTO:-0600
RDATE:20211107T020000
RDATE:20221106T020000
END:STANDARD
BEGIN:DAYLIGHT
TZNAME:CDT
DTSTART:20210314T020000
TZOFFSETFROM:-0600
TZOFFSETTO:-0500
RDATE:20220313T020000
END:DAYLIGHT
END:VTIMEZONE
BEGIN:VEVENT
UID:44b7bd3d-bd13-453e-8d13-37b59451bcc9
DTSTAMP:20260423T064733Z
DESCRIPTION:
DTSTART;TZID=America/Chicago:20210629T150000
DTEND;TZID=America/Chicago:20210629T160000
LOCATION:
SUMMARY:Advocate Training
END:VEVENT
END:VCALENDAR
