BEGIN:VCALENDAR
VERSION:2.0
PRODID:-//phil.firespring.org//NONSGML kigkonsult.se iCalcreator 2.30.10//
CALSCALE:GREGORIAN
METHOD:PUBLISH
UID:c533f587-c42e-4974-ae14-e039fa7e7cfe
X-WR-CALDESC:
X-WR-RELCALID:726f36504e43474970ede064a414001a
X-WR-TIMEZONE:America/Chicago
BEGIN:VTIMEZONE
TZID:America/Chicago
BEGIN:STANDARD
TZNAME:CST
DTSTART:20201101T020000
TZOFFSETFROM:-0500
TZOFFSETTO:-0600
RDATE:20211107T020000
RDATE:20221106T020000
END:STANDARD
BEGIN:DAYLIGHT
TZNAME:CDT
DTSTART:20210314T020000
TZOFFSETFROM:-0600
TZOFFSETTO:-0500
RDATE:20220313T020000
END:DAYLIGHT
END:VTIMEZONE
BEGIN:VEVENT
UID:70d2f9f9-f4ff-4a0d-b053-efa684f6a3a0
DTSTAMP:20260423T064847Z
DESCRIPTION:
DTSTART;TZID=America/Chicago:20210629T160000
DTEND;TZID=America/Chicago:20210629T170000
LOCATION:
SUMMARY:Men Who Cook
END:VEVENT
END:VCALENDAR
