BEGIN:VCALENDAR
VERSION:2.0
PRODID:-//phil.firespring.org//NONSGML kigkonsult.se iCalcreator 2.30.10//
CALSCALE:GREGORIAN
METHOD:PUBLISH
UID:523c25e1-4853-40c0-ae0b-bdd782611f32
X-WR-CALDESC:
X-WR-RELCALID:de53e9fb2e8045c7a0e81f778c1b4d9c
X-WR-TIMEZONE:America/Chicago
BEGIN:VTIMEZONE
TZID:America/Chicago
BEGIN:STANDARD
TZNAME:CST
DTSTART:20201101T020000
TZOFFSETFROM:-0500
TZOFFSETTO:-0600
RDATE:20211107T020000
RDATE:20221106T020000
END:STANDARD
BEGIN:DAYLIGHT
TZNAME:CDT
DTSTART:20210314T020000
TZOFFSETFROM:-0600
TZOFFSETTO:-0500
RDATE:20220313T020000
END:DAYLIGHT
END:VTIMEZONE
BEGIN:VEVENT
UID:b13722d1-3092-4a6a-a98b-b08d731f7e86
DTSTAMP:20260423T064847Z
DESCRIPTION:
DTSTART;TZID=America/Chicago:20210629T100000
DTEND;TZID=America/Chicago:20210629T110000
LOCATION:
SUMMARY:Red Shoe Gala
END:VEVENT
END:VCALENDAR
