BEGIN:VCALENDAR
VERSION:2.0
PRODID:-//phil.firespring.org//NONSGML kigkonsult.se iCalcreator 2.30.10//
CALSCALE:GREGORIAN
METHOD:PUBLISH
UID:4fe4982d-a5fd-4ad0-960d-403017369bfa
X-WR-CALDESC:
X-WR-RELCALID:fff07393e91aa3cc8ae6d5cd36152380
X-WR-TIMEZONE:America/Chicago
BEGIN:VTIMEZONE
TZID:America/Chicago
BEGIN:STANDARD
TZNAME:CST
DTSTART:20201101T020000
TZOFFSETFROM:-0500
TZOFFSETTO:-0600
RDATE:20211107T020000
RDATE:20221106T020000
END:STANDARD
BEGIN:DAYLIGHT
TZNAME:CDT
DTSTART:20210314T020000
TZOFFSETFROM:-0600
TZOFFSETTO:-0500
RDATE:20220313T020000
END:DAYLIGHT
END:VTIMEZONE
BEGIN:VEVENT
UID:29fa7181-3ecf-4e1d-a561-7996699f2443
DTSTAMP:20260423T064841Z
DESCRIPTION:
DTSTART;TZID=America/Chicago:20210630T093000
DTEND;TZID=America/Chicago:20210630T103000
LOCATION:
SUMMARY:Town Hall
END:VEVENT
END:VCALENDAR
