BEGIN:VCALENDAR
VERSION:2.0
PRODID:-//phil.firespring.org//NONSGML kigkonsult.se iCalcreator 2.30.10//
CALSCALE:GREGORIAN
METHOD:PUBLISH
UID:4ded136b-710f-4827-87d1-134ab2ea1c2f
X-WR-CALDESC:Please bring drinking water
X-WR-RELCALID:1a039a5481ddd86528e3c6e87a2ba9ac
X-WR-TIMEZONE:America/Chicago
BEGIN:VTIMEZONE
TZID:America/Chicago
BEGIN:STANDARD
TZNAME:CST
DTSTART:20201101T020000
TZOFFSETFROM:-0500
TZOFFSETTO:-0600
RDATE:20211107T020000
RDATE:20221106T020000
END:STANDARD
BEGIN:DAYLIGHT
TZNAME:CDT
DTSTART:20210314T020000
TZOFFSETFROM:-0600
TZOFFSETTO:-0500
RDATE:20220313T020000
END:DAYLIGHT
END:VTIMEZONE
BEGIN:VEVENT
UID:e98585cf-6ccf-47ea-a8b1-383ede48b803
DTSTAMP:20260423T052504Z
DESCRIPTION:Please bring drinking water
DTSTART;TZID=America/Chicago:20210715T160000
DTEND;TZID=America/Chicago:20210715T170000
LOCATION:Firespring
SUMMARY:Walking Group
END:VEVENT
END:VCALENDAR
