BEGIN:VCALENDAR
VERSION:2.0
PRODID:-//phil.firespring.org//NONSGML kigkonsult.se iCalcreator 2.30.10//
CALSCALE:GREGORIAN
METHOD:PUBLISH
UID:50c71cb9-9e23-47bd-b1e8-6eb0d6bcadd0
X-WR-CALDESC:
X-WR-RELCALID:055c2f7cf379f48ace074e38a454c6c8
X-WR-TIMEZONE:America/Chicago
BEGIN:VTIMEZONE
TZID:America/Chicago
BEGIN:STANDARD
TZNAME:CST
DTSTART:20201101T020000
TZOFFSETFROM:-0500
TZOFFSETTO:-0600
RDATE:20211107T020000
RDATE:20221106T020000
END:STANDARD
BEGIN:DAYLIGHT
TZNAME:CDT
DTSTART:20210314T020000
TZOFFSETFROM:-0600
TZOFFSETTO:-0500
RDATE:20220313T020000
END:DAYLIGHT
END:VTIMEZONE
BEGIN:VEVENT
UID:5e59621d-0e89-4756-aa38-af16ebff18fc
DTSTAMP:20260423T052402Z
DESCRIPTION:
DTSTART;TZID=America/Chicago:20210728T150000
DTEND;TZID=America/Chicago:20210728T160000
LOCATION:
SUMMARY:Donor Celebration
END:VEVENT
END:VCALENDAR
