BEGIN:VCALENDAR
VERSION:2.0
PRODID:-//phil.firespring.org//NONSGML kigkonsult.se iCalcreator 2.30.10//
CALSCALE:GREGORIAN
METHOD:PUBLISH
UID:8f22fea5-93f2-4b06-9f92-858e7e5c65c4
X-WR-CALDESC:
X-WR-RELCALID:bede2c08352dbc7fc428a7ffc1180dc9
X-WR-TIMEZONE:America/Chicago
BEGIN:VTIMEZONE
TZID:America/Chicago
BEGIN:STANDARD
TZNAME:CST
DTSTART:20201101T020000
TZOFFSETFROM:-0500
TZOFFSETTO:-0600
RDATE:20211107T020000
RDATE:20221106T020000
END:STANDARD
BEGIN:DAYLIGHT
TZNAME:CDT
DTSTART:20210314T020000
TZOFFSETFROM:-0600
TZOFFSETTO:-0500
RDATE:20220313T020000
END:DAYLIGHT
END:VTIMEZONE
BEGIN:VEVENT
UID:ff832f83-1db8-494a-963a-08761b7a5b69
DTSTAMP:20260423T052352Z
DESCRIPTION:
DTSTART;TZID=America/Chicago:20210731T133000
DTEND;TZID=America/Chicago:20210731T143000
LOCATION:
SUMMARY:Golf Event
END:VEVENT
END:VCALENDAR
