BEGIN:VCALENDAR
VERSION:2.0
PRODID:-//phil.firespring.org//NONSGML kigkonsult.se iCalcreator 2.30.10//
CALSCALE:GREGORIAN
METHOD:PUBLISH
UID:e248ab2d-b90f-47e2-a436-8a4fbfabf30a
X-WR-CALDESC:
X-WR-RELCALID:e83a5e6ae179e63e3a3d1ed551d2b0ff
X-WR-TIMEZONE:America/Chicago
BEGIN:VTIMEZONE
TZID:America/Chicago
BEGIN:STANDARD
TZNAME:CST
DTSTART:20201101T020000
TZOFFSETFROM:-0500
TZOFFSETTO:-0600
RDATE:20211107T020000
RDATE:20221106T020000
END:STANDARD
BEGIN:DAYLIGHT
TZNAME:CDT
DTSTART:20210314T020000
TZOFFSETFROM:-0600
TZOFFSETTO:-0500
RDATE:20220313T020000
END:DAYLIGHT
END:VTIMEZONE
BEGIN:VEVENT
UID:27a901eb-f86a-415b-8de3-78d9567ca02d
DTSTAMP:20260423T053813Z
DESCRIPTION:
DTSTART;TZID=America/Chicago:20210731T163000
DTEND;TZID=America/Chicago:20210731T173000
LOCATION:
SUMMARY:Music Class
END:VEVENT
END:VCALENDAR
