BEGIN:VCALENDAR
VERSION:2.0
PRODID:-//phil.firespring.org//NONSGML kigkonsult.se iCalcreator 2.30.10//
CALSCALE:GREGORIAN
METHOD:PUBLISH
UID:41035624-62ca-452b-af63-e8f357a4ac43
X-WR-CALDESC:
X-WR-RELCALID:b9b5860e61f93d2b00c34078275b317c
X-WR-TIMEZONE:America/Chicago
BEGIN:VTIMEZONE
TZID:America/Chicago
BEGIN:STANDARD
TZNAME:CST
DTSTART:20201101T020000
TZOFFSETFROM:-0500
TZOFFSETTO:-0600
RDATE:20211107T020000
RDATE:20221106T020000
END:STANDARD
BEGIN:DAYLIGHT
TZNAME:CDT
DTSTART:20210314T020000
TZOFFSETFROM:-0600
TZOFFSETTO:-0500
RDATE:20220313T020000
END:DAYLIGHT
END:VTIMEZONE
BEGIN:VEVENT
UID:776da4c8-03a5-47eb-8d5a-63f431a967c5
DTSTAMP:20260423T041735Z
DESCRIPTION:
DTSTART;TZID=America/Chicago:20210830T093000
DTEND;TZID=America/Chicago:20210830T103000
LOCATION:
SUMMARY:Summer Reading
END:VEVENT
END:VCALENDAR
