BEGIN:VCALENDAR
VERSION:2.0
PRODID:-//phil.firespring.org//NONSGML kigkonsult.se iCalcreator 2.30.10//
CALSCALE:GREGORIAN
METHOD:PUBLISH
UID:c80e6deb-b86e-451e-b626-1c22a86788d2
X-WR-CALDESC:
X-WR-RELCALID:c337eba592e45ea1be7c33e89532dc63
X-WR-TIMEZONE:America/Chicago
BEGIN:VTIMEZONE
TZID:America/Chicago
BEGIN:STANDARD
TZNAME:CST
DTSTART:20201101T020000
TZOFFSETFROM:-0500
TZOFFSETTO:-0600
RDATE:20211107T020000
RDATE:20221106T020000
END:STANDARD
BEGIN:DAYLIGHT
TZNAME:CDT
DTSTART:20210314T020000
TZOFFSETFROM:-0600
TZOFFSETTO:-0500
RDATE:20220313T020000
END:DAYLIGHT
END:VTIMEZONE
BEGIN:VEVENT
UID:f5aba83b-83f2-4889-b45d-9e9e91fd4461
DTSTAMP:20260423T041735Z
DESCRIPTION:
DTSTART;TZID=America/Chicago:20210831T133000
DTEND;TZID=America/Chicago:20210831T143000
LOCATION:
SUMMARY:Auction
END:VEVENT
END:VCALENDAR
