BEGIN:VCALENDAR
VERSION:2.0
PRODID:-//phil.firespring.org//NONSGML kigkonsult.se iCalcreator 2.30.10//
CALSCALE:GREGORIAN
METHOD:PUBLISH
UID:31e90057-3f3b-4b9b-bf3e-3234090394b0
X-WR-CALDESC:
X-WR-RELCALID:0e72929adbb8d539011c635a39b877a2
X-WR-TIMEZONE:America/Chicago
BEGIN:VTIMEZONE
TZID:America/Chicago
BEGIN:STANDARD
TZNAME:CST
DTSTART:20201101T020000
TZOFFSETFROM:-0500
TZOFFSETTO:-0600
RDATE:20211107T020000
RDATE:20221106T020000
END:STANDARD
BEGIN:DAYLIGHT
TZNAME:CDT
DTSTART:20210314T020000
TZOFFSETFROM:-0600
TZOFFSETTO:-0500
RDATE:20220313T020000
END:DAYLIGHT
END:VTIMEZONE
BEGIN:VEVENT
UID:73e5d7e2-496f-4e42-83e2-202b4624d63f
DTSTAMP:20260423T041730Z
DESCRIPTION:
DTSTART;TZID=America/Chicago:20210831T163000
DTEND;TZID=America/Chicago:20210831T173000
LOCATION:
SUMMARY:Fall Lunch
END:VEVENT
END:VCALENDAR
