BEGIN:VCALENDAR
VERSION:2.0
PRODID:-//phil.firespring.org//NONSGML kigkonsult.se iCalcreator 2.30.10//
CALSCALE:GREGORIAN
METHOD:PUBLISH
UID:90d9d7dc-9821-4ebb-be9f-02411215e7a6
X-WR-CALDESC:
X-WR-RELCALID:ca616fa9641c2ac848d1c375968e1dad
X-WR-TIMEZONE:America/Chicago
BEGIN:VTIMEZONE
TZID:America/Chicago
BEGIN:STANDARD
TZNAME:CST
DTSTART:20201101T020000
TZOFFSETFROM:-0500
TZOFFSETTO:-0600
RDATE:20211107T020000
RDATE:20221106T020000
END:STANDARD
BEGIN:DAYLIGHT
TZNAME:CDT
DTSTART:20210314T020000
TZOFFSETFROM:-0600
TZOFFSETTO:-0500
RDATE:20220313T020000
END:DAYLIGHT
END:VTIMEZONE
BEGIN:VEVENT
UID:7f2b4aa8-f0ac-44ab-a7ca-61000c7998d6
DTSTAMP:20260423T024027Z
DESCRIPTION:
DTSTART;TZID=America/Chicago:20210831T000000
DTEND;TZID=America/Chicago:20210930T235900
LOCATION:
SUMMARY:Gala Sponsorship Registration
END:VEVENT
END:VCALENDAR
