BEGIN:VCALENDAR
VERSION:2.0
PRODID:-//phil.firespring.org//NONSGML kigkonsult.se iCalcreator 2.30.10//
CALSCALE:GREGORIAN
METHOD:PUBLISH
UID:61c4803a-b2ef-4fe1-bcb9-228df6fce857
X-WR-CALDESC:
X-WR-RELCALID:2a5b07b8f95cf8a428fbafb7d741d9a9
X-WR-TIMEZONE:America/Chicago
BEGIN:VTIMEZONE
TZID:America/Chicago
BEGIN:STANDARD
TZNAME:CST
DTSTART:20201101T020000
TZOFFSETFROM:-0500
TZOFFSETTO:-0600
RDATE:20211107T020000
RDATE:20221106T020000
END:STANDARD
BEGIN:DAYLIGHT
TZNAME:CDT
DTSTART:20210314T020000
TZOFFSETFROM:-0600
TZOFFSETTO:-0500
RDATE:20220313T020000
END:DAYLIGHT
END:VTIMEZONE
BEGIN:VEVENT
UID:bacf54a1-17c4-469c-bf2e-fbcc6365a2a5
DTSTAMP:20260423T041730Z
DESCRIPTION:
DTSTART;TZID=America/Chicago:20210831T093000
DTEND;TZID=America/Chicago:20210831T103000
LOCATION:
SUMMARY:Golf Event
END:VEVENT
END:VCALENDAR
