BEGIN:VCALENDAR
VERSION:2.0
PRODID:-//phil.firespring.org//NONSGML kigkonsult.se iCalcreator 2.30.10//
CALSCALE:GREGORIAN
METHOD:PUBLISH
UID:07b13dbd-1d05-4bd0-ae57-f08b4bc33aba
X-WR-CALDESC:
X-WR-RELCALID:ad0a757fc6f302865b1387a7cccb96fd
X-WR-TIMEZONE:America/Chicago
BEGIN:VTIMEZONE
TZID:America/Chicago
BEGIN:STANDARD
TZNAME:CST
DTSTART:20201101T020000
TZOFFSETFROM:-0500
TZOFFSETTO:-0600
RDATE:20211107T020000
RDATE:20221106T020000
END:STANDARD
BEGIN:DAYLIGHT
TZNAME:CDT
DTSTART:20210314T020000
TZOFFSETFROM:-0600
TZOFFSETTO:-0500
RDATE:20220313T020000
END:DAYLIGHT
END:VTIMEZONE
BEGIN:VEVENT
UID:ae9f9ef5-f078-42f6-a18a-eb88a84cab46
DTSTAMP:20260423T041918Z
DESCRIPTION:
DTSTART;TZID=America/Chicago:20210831T103000
DTEND;TZID=America/Chicago:20210831T113000
LOCATION:
SUMMARY:The 2021 BRAVO! Awards
END:VEVENT
END:VCALENDAR
