BEGIN:VCALENDAR
VERSION:2.0
PRODID:-//phil.firespring.org//NONSGML kigkonsult.se iCalcreator 2.30.10//
CALSCALE:GREGORIAN
METHOD:PUBLISH
UID:e58b6663-6660-400b-b6c0-d85db2407523
X-WR-CALDESC:
X-WR-RELCALID:ae74dc958c6bbeb797be402f9d21d59d
X-WR-TIMEZONE:America/Chicago
BEGIN:VTIMEZONE
TZID:America/Chicago
BEGIN:STANDARD
TZNAME:CST
DTSTART:20201101T020000
TZOFFSETFROM:-0500
TZOFFSETTO:-0600
RDATE:20211107T020000
RDATE:20221106T020000
END:STANDARD
BEGIN:DAYLIGHT
TZNAME:CDT
DTSTART:20210314T020000
TZOFFSETFROM:-0600
TZOFFSETTO:-0500
RDATE:20220313T020000
END:DAYLIGHT
END:VTIMEZONE
BEGIN:VEVENT
UID:83d086db-2611-4d8c-9d4b-5af98067e8b2
DTSTAMP:20260423T023709Z
DESCRIPTION:
DTSTART;TZID=America/Chicago:20210901T160000
DTEND;TZID=America/Chicago:20210901T170000
LOCATION:
SUMMARY:Gala
END:VEVENT
END:VCALENDAR
