BEGIN:VCALENDAR
VERSION:2.0
PRODID:-//phil.firespring.org//NONSGML kigkonsult.se iCalcreator 2.30.10//
CALSCALE:GREGORIAN
METHOD:PUBLISH
UID:1bdd95bb-ed55-4ffa-a9c1-ee8f57ec4a77
X-WR-CALDESC:
X-WR-RELCALID:e53cdc40b21c92be45860b34bd0874bc
X-WR-TIMEZONE:America/Chicago
BEGIN:VTIMEZONE
TZID:America/Chicago
BEGIN:STANDARD
TZNAME:CST
DTSTART:20201101T020000
TZOFFSETFROM:-0500
TZOFFSETTO:-0600
RDATE:20211107T020000
RDATE:20221106T020000
END:STANDARD
BEGIN:DAYLIGHT
TZNAME:CDT
DTSTART:20210314T020000
TZOFFSETFROM:-0600
TZOFFSETTO:-0500
RDATE:20220313T020000
RDATE:20230312T020000
END:DAYLIGHT
END:VTIMEZONE
BEGIN:VEVENT
UID:35013e18-405e-4ac6-b683-33de7a60be34
DTSTAMP:20260423T023955Z
DESCRIPTION:
DTSTART;TZID=America/Chicago:20210928T090000
DTEND;TZID=America/Chicago:20210928T100000
LOCATION:
SUMMARY:Parent Education
END:VEVENT
END:VCALENDAR
