BEGIN:VCALENDAR
VERSION:2.0
PRODID:-//phil.firespring.org//NONSGML kigkonsult.se iCalcreator 2.30.10//
CALSCALE:GREGORIAN
METHOD:PUBLISH
UID:5e80ab1a-1c52-47b3-82a2-80ae964992d1
X-WR-CALDESC:
X-WR-RELCALID:520a250c4229e1a6686a0402bb2060cd
X-WR-TIMEZONE:America/Chicago
BEGIN:VTIMEZONE
TZID:America/Chicago
BEGIN:STANDARD
TZNAME:CST
DTSTART:20201101T020000
TZOFFSETFROM:-0500
TZOFFSETTO:-0600
RDATE:20211107T020000
RDATE:20221106T020000
END:STANDARD
BEGIN:DAYLIGHT
TZNAME:CDT
DTSTART:20210314T020000
TZOFFSETFROM:-0600
TZOFFSETTO:-0500
RDATE:20220313T020000
RDATE:20230312T020000
END:DAYLIGHT
END:VTIMEZONE
BEGIN:VEVENT
UID:3d875f2e-756d-4d7f-b13c-6117c10026dc
DTSTAMP:20260423T023848Z
DESCRIPTION:
DTSTART;TZID=America/Chicago:20210930T133000
DTEND;TZID=America/Chicago:20210930T143000
LOCATION:
SUMMARY:Clay Shoot
END:VEVENT
END:VCALENDAR
