BEGIN:VCALENDAR
VERSION:2.0
PRODID:-//phil.firespring.org//NONSGML kigkonsult.se iCalcreator 2.30.10//
CALSCALE:GREGORIAN
METHOD:PUBLISH
UID:2fb4da99-5f18-407c-8a66-54ec72f82b71
X-WR-CALDESC:
X-WR-RELCALID:8067239639269d6125265ec853fd7b00
X-WR-TIMEZONE:America/Chicago
BEGIN:VTIMEZONE
TZID:America/Chicago
BEGIN:STANDARD
TZNAME:CST
DTSTART:20201101T020000
TZOFFSETFROM:-0500
TZOFFSETTO:-0600
RDATE:20211107T020000
RDATE:20221106T020000
END:STANDARD
BEGIN:DAYLIGHT
TZNAME:CDT
DTSTART:20210314T020000
TZOFFSETFROM:-0600
TZOFFSETTO:-0500
RDATE:20220313T020000
RDATE:20230312T020000
END:DAYLIGHT
END:VTIMEZONE
BEGIN:VEVENT
UID:f6b48d78-a994-48bc-a2e7-d3358d5edfa8
DTSTAMP:20260423T005623Z
DESCRIPTION:
DTSTART;TZID=America/Chicago:20211027T173000
DTEND;TZID=America/Chicago:20211027T183000
LOCATION:
SUMMARY:Town Hall
END:VEVENT
END:VCALENDAR
